Workbook

Sheet 入力
C2: は全てご入力ください（ドロップリストがある箇所はリストよりご選択ください）
C4: はドロップリストよりご選択ください
B6: ❖事業完了日（支払日と納品日の遅い方の日付）
C7: 月 | E7: 日
B9: ❖入力日
C10: 月 | E10: 日
B12: ❖事業者住所（法人の場合は登記住所、個人事業主の方は開業時登録した住所をご記入ください）
B15: ❖事業者名（法人の場合は通知文に記載されている法人名、個人事業主の方は個人名をご記入下さい）
B18: ❖役職名（通知文に記載されている役職名。個人事業主の方は代表とご記入ください）
B21: ❖代表者名（通知文に記載されているお名前。個人事業主の方は個人名をご記入ください）
B22: 苗字 | D22: 名
B24: ❖介護保険事業所番号（軽費、養護老人ホームは未記入）
B27: ❖施設名（指令文に記載されている施設名をご記入ください）
B30: ❖施設住所
B33: ❖提供サービス（運営されている提供サービスをリストよりお選びください）
B34: 居宅介護支援
B36: ❖入所系サービス定員数
C37: 名 | D37: （入所系以外のサービス事業者は未記入）
B39: ❖口座情報（申請時にご提出いただいた口座情報をご記入下さい）
B40: 金融機関名 | E40: 口座種別 | G40: 口座番号
B42: ❖本件責任者
B43: お名前 | E43: 連絡先 | H43: （ハイフン有で記入 例011-123-4567）
B45: ❖担当者（本件責任者と同様の場合もご記入願います）
B46: お名前 | E46: 連絡先 | H46: （ハイフン有で記入 例011-123-4567） | L46: 担当部署名
B48: ❖法人設立日（謄本に記載されている設立年月日をご記入下さい。個人事業主の方は開業日をご記入下さい）
B49: 元号 | F49: 年 | J49: 日
B51: ❖補助対象経費（指令文に記載されている対象経費、補助金をご記入ください） | H51: 対象経費 | J51: 補助金
B52: ・備品、ガソリン、光熱水費、災害備蓄品（備蓄食料含む） | L52: 円
B53: ・入所系サービス事業者の食料品や給食費（委託費含む） | L53: 円
G54: 合計 | H54: =SUM(H52:I53) -> 0 | J54: =SUM(J52:K53) -> 0 | L54: 円
B56: ❖支払経費（実際にお支払いした税込額をご記入下さい）
B57: 1. 備品、ガソリン、光熱水費、災害備蓄品（備蓄食料含む）
C59: 科 目 | F59: 数量 | G59: 単位 | H59: 支払額（税込） | J59: 科目記入例
B60: 1 | J60: スタッドレスタイヤ
B61: 2 | J61: ガソリン代
B62: 3 | J62: 電気代
B63: 4 | J63: ポータブル電源 | L63: 等の詳細をご記入ください
B64: 5
B65: 6
B66: 7
...

Sheet 別13設備
A1: 別記第１3号様式
A3: 補助事業等実績報告書
I5: 令和 8 年 | K5: =入力!B10 -> 0 | L5: 月 | M5: =入力!D10 -> 0 | N5: 日
A7: 北海道知事 鈴木 直道 様
G10: 住所 | I10: =入力!B13 -> 0
D11: 補助事業者等
G12: 氏名 | I12: =入力!B16 -> 0
I13: =入力!B19 -> 0 | K13: =入力!C22 -> 0 | M13: =入力!E22 -> 0
A15: 事業名 介護事業所等及び介護施設等に対するサービス継続支援事業費補助金
A16: 令和 8 年 9 月 1 日付け | D16: 高福 | E16: 第 | F16: 1609 | H16: 号指令で補助金等の交付の決定を受けた上記の
A17: 事業は、令和8年 | C17: =入力!B7 -> 0 | D17: 月 | E17: =入力!D7 -> 0 | F17: 日完了したので、関係書類を添えて報告します。
A19: 口座振替払の振込先銀行等の名称及び口座番号
A20: 振込先銀行等の名称 | E20: 口座番号
A21: =入力!C40 -> 0 | E21: =入力!F40 -> 0 | G21: =入力!H40 -> 0
C24: 氏 名 | I24: 連 絡 先
A25: 本件責任者 | C25: =入力!C43 -> 0 | I25: =入力!F43 -> 0
A26: 担 当 者 | C26: =入力!C46 -> 0 | I26: =入力!F46 -> 0
A28: 注 １ 「 年 月 日付け（記号）第 号指令」については、当初の交付決定の
A29: 年月日、番号を記載すること。
A30: ２ 「口座振替払の振込先銀行等の名称及び口座番号」欄については、口座振替払を
A31: 希望する場合に記載すること。
A32: ３ 補助事業等の期間が２年度以上にわたる場合で、道の会計年度が終了したときに
A33: 使用する場合は、この様式中「完了」とあるのを「執行」と訂正して使用すること。

Sheet 別14設備
A1: 別記第１４号様式
A3: 事 業 実 績 書
A5: 設立年月日 | B5: =入力!C49 -> 0 | D5: =入力!E49 -> 0 | E5: 年 | F5: =入力!G49 -> 0 | G5: 月 | H5: =入力!I49 -> 0 | I5: 日
A8: 申請者の営 む主な事業 | B8: =入力!B34 -> 居宅介護支援
A11: 補助事業等の 内 容 | B11: =入力!C80 -> 0
A14: 補助事業等の 実施による成果 （実施結果） | B14: =入力!B85 -> 0
A17: 備 考
A21: 注 １ 「補助事業等の内容」欄及び「補助事業等の成果（実施結果）」欄に
A22: ついては、詳細かつ具体的に記載すること。
A23: ２ 補助金等の交付を受けようとする者が法人以外の団体の場合に
A24: あっては、その運営の状況を「備考」欄に記載すること。
A25: ３ 事業主体が地方公共団体であるときは、「設立年月日」及び
A26: 「申請者の営む主な事業」欄は削除して使用すること。

Sheet 別15設備
A1: 別記第１５号様式
A2: 補 助 金 等 精 算 書
A3: 区分 | B3: 計 画 | G3: 実 施 | O3: 補助金等 | T3: 補助事業等に
M4: 補 | N4: 消費 | O4: の交付の | Q4: 補助金 | R4: 補助金 | S4: 補助金 | T4: 係る経費の債務
N5: 税等 | O5: 決定 | S5: 等精算 | T5: 確定額 | W5: 不用額
M6: 助 | N6: 仕入 | Q6: 等精算 | R6: 等領収 | S6: 額に対 | X6: 備
B7: 補助事 | C7: 寄付金 | D7: 補助 | E7: 補助基 | F7: 補助 | G7: 補助事 | H7: 寄付金 | I7: 補助 | J7: 補助基 | L7: 補助 | N7: 控除 | O7: 年月 | S7: する領 | T7: 支払 | U7: 支払 | W7: （N-O）
B8: 業等に | C8: その他 | D8: 対象 | E8: 準によ | F8: 基本 | G8: 業等に | H8: その他 | I8: 対象 | J8: 準によ | L8: 基本 | M8: 率 | N8: 税額 | O8: 日 | P8: 金額 | Q8: 額 | R8: 済額 | S8: 収未済 | U8: 未済 | V8: 計
B9: 要する | C9: の収入 | D9: 経費 | E9: り算出 | F9: 額 | G9: 要した | H9: の収入 | I9: 経費 | J9: り算出 | L9: 額 | O9: 番号 | S9: 額 | T9: 済額 | U9: 額 | X9: 考
B10: 経費 | E10: した額 | G10: 経費 | J10: した額 | S10: （O-P）
B11: A | C11: B | D11: C | E11: D | F11: E | G11: F | H11: G | I11: H | J11: I | L11: J | M11: K | N11: L | O11: M | P11: N | Q11: O | R11: P | S11: Q | T11: R | U11: S | V11: T
B12: 円 | C12: 円 | D12: 円 | E12: 円 | F12: 円 | G12: 円 | H12: 円 | I12: 円 | J12: 円 | L12: 円 | N12: 円 | O12: 円 | P12: 円 | Q12: 円 | R12: 円 | S12: 円 | T12: 円 | U12: 円 | V12: 円 | W12: 円
A13: 備品等 | B13: =入力!H52 -> 0 | C13: 0 | D13: =B13 -> 0 | E13: =IF(ISNA(VLOOKUP(入力!B34, リスト!A2:B23, 2, FALSE)), 入力!B37*6000, VLOOKUP(入力!B34, リスト!A2:B23, 2, FALSE)) -> 200000 | F13: =IF(D13>E13, E13, ROUNDDOWN(D13, -3)) -> 0 | G13: =入力!H70 -> 0 | H13: 0 | I13: =G13 -> 0 | J13: =E13 -> 200000 | K13: =IF(I13>F13, IF(J13>F13, F13, J13), I13) -> 0 | L13: =ROUNDDOWN(K13,-3) -> 0 | N13: 0 | O13: 令和8年 9月1日 高福第1609号 | P13: =F13 -> 0 | Q13: =L13 -> 0 | R13: 0 | S13: =L13 -> 0 | T13: =G13 -> 0 | U13: 0 | V13: =G13 -> 0 | W13: =IF(P13-Q13<0,0,P13-Q13) -> 0
A16: 合計 | B16: =SUM(B13:B15) -> 0 | C16: =SUM(C13:C15) -> 0 | D16: =SUM(D13:D15) -> 0 | E16: =SUM(E13:E15) -> 200000 | F16: =SUM(F13:F15) -> 0 | G16: =SUM(G13:G15) -> 0 | H16: =SUM(H13:H15) -> 0 | I16: =SUM(I13:I15) -> 0 | J16: =SUM(J13:J15) -> 200000 | L16: =SUM(L13:L15) -> 0 | N16: =SUM(N13:N15) -> 0 | P16: =SUM(P13:P15) -> 0 | Q16: =SUM(Q13:Q15) -> 0 | R16: =SUM(R13:R15) -> 0 | S16: =SUM(S13:S15) -> 0 | T16: =SUM(T13:T15) -> 0 | U16: =SUM(U13:U15) -> 0 | V16: =SUM(V13:V15) -> 0 | W16: =SUM(W13:W15) -> 0
A18: 注 １ 「区分」欄には、事務又は事業の名称（必要があるときは、細分された項目等当該補助事業等において区分すべきこととされている事項）を記載すること。
A19: ２ 「計画」欄には、申請の際の額（変更の承認（達による変更を含む。）があったときは、変更後の額）を記載すること。
A20: ３ 「補助金等の交付の決定」欄中「年月日番号」欄には当初の交付決定の年月日、番号を記載し、「金額」欄には交付決定額（変更（達による変更を含む。）が
A21: あったときは、変更後の額）を記載すること。
A22: ４ 「補助金等精算額」欄には、実施に係る補助基本額（Ｊ）に補助率（Ｋ）を乗じた額から、消費税等仕入控除税額（Ｌ）を控除し得た額を記載すること。
A23: ただし、補助金等の算出が他の方法によっている場合は、その方法により算出した額を記載し、かつ、「備考」欄にその算出方法を明記すること。
A24: ５ 定額補助の場合は、「補助率」欄を斜線で抹消すること。
A25: ６ 「補助事業等に係る経費の債務確定額」欄中「支払済額」欄には、間接補助事業等の場合にあっては補助事業者等が間接補助事業者等に交付する
A26: 補助金等の支払済額を記載すること。

Sheet 別16設備
A1: 別記第１6号様式
A2: 事 業 精 算 書
A4: 事業（事務）名 介護事業所等及び介護施設等に対するサービス継続支援事業費補助金算書
A6: 収入の部
A7: 科 目 | G7: 予 算 額 | K7: 精 算 額 | M7: 内 訳 | Q7: 備 考
G8: 当 初 | I8: 更正後の額 | M8: 収入済額 | O8: 収入未済額
A9: 道補助金 | G9: =入力!J52 -> 0 | H9: 円 | I9: =IF(別15設備!F13=別15設備!L13,"",別15設備!L13) | J9: 円 | K9: =別15設備!L13 -> 0 | L9: 円 | M9: 0 | N9: 円 | O9: =別15設備!L13 -> 0 | P9: 円 | Q9: 一般会計 北海道 札幌市中央区北3条西6丁目
A10: 自己負担 | G10: =入力!H52-入力!J52 -> 0 | H10: 円 | I10: =IF(I9="","",入力!H70-別15設備!L13) | J10: 円 | K10: =別15設備!G13-別16設備!K9 -> 0 | L10: 円 | M10: =別15設備!G13-別16設備!K9 -> 0 | N10: 円 | O10: 0 | P10: 円
A12: 支出の部
A13: 科 目 | G13: 予 算 額 | K13: 精 算 額 | M13: 内 訳 | Q13: 不 用 額 | R13: 備 考
G14: 当 初 | I14: 更正後の額 | M14: 収入済額 | O14: 収入未済額
A15: 備品等 | G15: =入力!H52 -> 0 | H15: 円 | I15: =IF(別15設備!F13=別15設備!L13,"",別15設備!G13) | J15: 円 | K15: =入力!H70 -> 0 | L15: 円 | M15: =入力!H70 -> 0 | N15: 円 | O15: 0 | P15: 円 | Q15: 0円
A16: 上記のとおり精算したことを証明します。
A17: 令和 8 年 | C17: =入力!B10 -> 0 | D17: 月 | E17: =入力!D10 -> 0 | F17: 日 | M17: 住所 | O17: =入力!B13 -> 0
I18: 補助事業者等
M19: 氏名 | O19: =入力!B16 -> 0
O20: =入力!B19 -> 0 | Q20: =入力!C22 -> 0 | R20: =入力!E22 -> 0
A21: 注 １ この様式には、当該補助事業等に要した経費のみを記載すること。
A22: ２ 「科目」欄の区分は標準を示したものであり、補助金等の交付を受けた者における通常の予算及び決算の区分がこれと異なるときは、
A23: それぞれ補助事業者等の区分に従い記載して差し支えないこと。
A24: ３ 「予算額」欄中「更正後の額」欄には、補助事業者等の議決機関等における最終の更正後の額（予算の流用による更正後の額を含む。） を記載すること。
A25: ４ 「収入未済額」及び「支出未済額」欄には、債権又は債務が確定している額を記載し、かつ、債務者又は債権者の住所氏名を「備考」欄に記載すること。
A26: ５ 補助事業者等が市町村である場合は、「収入の部」には当該補助事業等に係る特定財源のみを記載し、備考欄に予算の区分
A27: （一般会計又は特別会計）を記載すること
A28: ６ 「不用額」欄には、「更正後の額」（更正していない場合には、「当初」）欄に記載した額から「精算額」欄に記載した額を控除した額を記載すること。
A29: ７ 市町村以外の者がこの様式を使用する場合は、この様式中「○○市（町村）長（氏名）」を訂正して使用すること。

Sheet 別13食料
A1: 別記第１3号様式
A3: 補助事業等実績報告書
I5: 令和 8 年 | K5: =入力!B10 -> 0 | L5: 月 | M5: =入力!D10 -> 0 | N5: 日
A7: 北海道知事 鈴木 直道 様
G10: 住所 | I10: =入力!B13 -> 0
D11: 補助事業者等
G12: 氏名 | I12: =入力!B16 -> 0
I13: =入力!B19 -> 0 | K13: =入力!C22 -> 0 | M13: =入力!E22 -> 0
A15: 事業名 介護事業所等及び介護施設等に対するサービス継続支援事業費補助金
A16: 令和 8 年 9 月 1 日付け | D16: 高福 | E16: 第 | F16: 1609 | H16: 号指令で補助金等の交付の決定を受けた上記の
A17: 事業は、令和8年 | C17: =入力!B7 -> 0 | D17: 月 | E17: =入力!D7 -> 0 | F17: 日完了したので、関係書類を添えて報告します。
A19: 口座振替払の振込先銀行等の名称及び口座番号
A20: 振込先銀行等の名称 | E20: 口座番号
A21: =入力!C40 -> 0 | E21: =入力!F40 -> 0 | G21: =入力!H40 -> 0
C24: 氏 名 | I24: 連 絡 先
A25: 本件責任者 | C25: =入力!C43 -> 0 | I25: =入力!F43 -> 0
A26: 担 当 者 | C26: =入力!C46 -> 0 | I26: =入力!F46 -> 0
A28: 注 １ 「 年 月 日付け（記号）第 号指令」については、当初の交付決定の
A29: 年月日、番号を記載すること。
A30: ２ 「口座振替払の振込先銀行等の名称及び口座番号」欄については、口座振替払を
A31: 希望する場合に記載すること。
A32: ３ 補助事業等の期間が２年度以上にわたる場合で、道の会計年度が終了したときに
A33: 使用する場合は、この様式中「完了」とあるのを「執行」と訂正して使用すること。

Sheet 別14食料
A1: 別記第１４号様式
A3: 事 業 実 績 書
A5: 設立年月日 | B5: =入力!C49 -> 0 | D5: =入力!E49 -> 0 | E5: 年 | F5: =入力!G49 -> 0 | G5: 月 | H5: =入力!I49 -> 0 | I5: 日
A8: 申請者の営 む主な事業 | B8: =入力!B34 -> 居宅介護支援
A11: 補助事業等の 内 容 | B11: =入力!C82 -> 0
A14: 補助事業等の 実施による成果 （実施結果） | B14: 本件導入により、資金繰りの安定化が図られた
A17: 備 考
A21: 注 １ 「補助事業等の内容」欄及び「補助事業等の成果（実施結果）」欄に
A22: ついては、詳細かつ具体的に記載すること。
A23: ２ 補助金等の交付を受けようとする者が法人以外の団体の場合に
A24: あっては、その運営の状況を「備考」欄に記載すること。
A25: ３ 事業主体が地方公共団体であるときは、「設立年月日」及び
A26: 「申請者の営む主な事業」欄は削除して使用すること。

Sheet 別15食料
A1: 別記第１５号様式
A2: 補 助 金 等 精 算 書
A3: 区分 | B3: 計 画 | G3: 実 施 | O3: 補助金等 | T3: 補助事業等に
M4: 補 | N4: 消費 | O4: の交付の | Q4: 補助金 | R4: 補助金 | S4: 補助金 | T4: 係る経費の債務
N5: 税等 | O5: 決定 | S5: 等精算 | T5: 確定額 | W5: 不用額
M6: 助 | N6: 仕入 | Q6: 等精算 | R6: 等領収 | S6: 額に対 | X6: 備
B7: 補助事 | C7: 寄付金 | D7: 補助 | E7: 補助基 | F7: 補助 | G7: 補助事 | H7: 寄付金 | I7: 補助 | J7: 補助基 | L7: 補助 | N7: 控除 | O7: 年月 | S7: する領 | T7: 支払 | U7: 支払 | W7: （N-O）
B8: 業等に | C8: その他 | D8: 対象 | E8: 準によ | F8: 基本 | G8: 業等に | H8: その他 | I8: 対象 | J8: 準によ | L8: 基本 | M8: 率 | N8: 税額 | O8: 日 | P8: 金額 | Q8: 額 | R8: 済額 | S8: 収未済 | U8: 未済 | V8: 計
B9: 要する | C9: の収入 | D9: 経費 | E9: り算出 | F9: 額 | G9: 要した | H9: の収入 | I9: 経費 | J9: り算出 | L9: 額 | O9: 番号 | S9: 額 | T9: 済額 | U9: 額 | X9: 考
B10: 経費 | E10: した額 | G10: 経費 | J10: した額 | S10: （O-P）
B11: A | C11: B | D11: C | E11: D | F11: E | G11: F | H11: G | I11: H | J11: I | L11: J | M11: K | N11: L | O11: M | P11: N | Q11: O | R11: P | S11: Q | T11: R | U11: S | V11: T
B12: 円 | C12: 円 | D12: 円 | E12: 円 | F12: 円 | G12: 円 | H12: 円 | I12: 円 | J12: 円 | L12: 円 | N12: 円 | O12: 円 | P12: 円 | Q12: 円 | R12: 円 | S12: 円 | T12: 円 | U12: 円 | V12: 円 | W12: 円
A13: 食料品 | B13: =入力!H53 -> 0 | C13: 0 | D13: =B13 -> 0 | E13: =入力!B37*18000 -> 0 | F13: =IF(D13>E13, E13, ROUNDDOWN(D13, -3)) -> 0 | G13: =入力!H77 -> 0 | H13: 0 | I13: =G13 -> 0 | J13: =E13 -> 0 | K13: =IF(I13>F13, IF(J13>F13, F13, J13), I13) -> 0 | L13: =ROUNDDOWN(K13,-3) -> 0 | N13: 0 | O13: 令和8年 9月1日 高福第1609号 | P13: =F13 -> 0 | Q13: =L13 -> 0 | R13: 0 | S13: =L13 -> 0 | T13: =G13 -> 0 | U13: 0 | V13: =G13 -> 0 | W13: =IF(P13-Q13<0,0,P13-Q13) -> 0
A16: 合計 | B16: =SUM(B13:B15) -> 0 | C16: =SUM(C13:C15) -> 0 | D16: =SUM(D13:D15) -> 0 | E16: =SUM(E13:E15) -> 0 | F16: =SUM(F13:F15) -> 0 | G16: =SUM(G13:G15) -> 0 | H16: =SUM(H13:H15) -> 0 | I16: =SUM(I13:I15) -> 0 | J16: =SUM(J13:J15) -> 0 | L16: =SUM(L13:L15) -> 0 | N16: =SUM(N13:N15) -> 0 | P16: =SUM(P13:P15) -> 0 | Q16: =SUM(Q13:Q15) -> 0 | R16: =SUM(R13:R15) -> 0 | S16: =SUM(S13:S15) -> 0 | T16: =SUM(T13:T15) -> 0 | U16: =SUM(U13:U15) -> 0 | V16: =SUM(V13:V15) -> 0 | W16: =SUM(W13:W15) -> 0
A18: 注 １ 「区分」欄には、事務又は事業の名称（必要があるときは、細分された項目等当該補助事業等において区分すべきこととされている事項）を記載すること。
A19: ２ 「計画」欄には、申請の際の額（変更の承認（達による変更を含む。）があったときは、変更後の額）を記載すること。
A20: ３ 「補助金等の交付の決定」欄中「年月日番号」欄には当初の交付決定の年月日、番号を記載し、「金額」欄には交付決定額（変更（達による変更を含む。）が
A21: あったときは、変更後の額）を記載すること。
A22: ４ 「補助金等精算額」欄には、実施に係る補助基本額（Ｊ）に補助率（Ｋ）を乗じた額から、消費税等仕入控除税額（Ｌ）を控除し得た額を記載すること。
A23: ただし、補助金等の算出が他の方法によっている場合は、その方法により算出した額を記載し、かつ、「備考」欄にその算出方法を明記すること。
A24: ５ 定額補助の場合は、「補助率」欄を斜線で抹消すること。
A25: ６ 「補助事業等に係る経費の債務確定額」欄中「支払済額」欄には、間接補助事業等の場合にあっては補助事業者等が間接補助事業者等に交付する
A26: 補助金等の支払済額を記載すること。

Sheet 別16食料
A1: 別記第１6号様式
A2: 事 業 精 算 書
A4: 事業（事務）名 介護事業所等及び介護施設等に対するサービス継続支援事業費補助金算書
A6: 収入の部
A7: 科 目 | G7: 予 算 額 | K7: 精 算 額 | M7: 内 訳 | Q7: 備 考
G8: 当 初 | I8: 更正後の額 | M8: 収入済額 | O8: 収入未済額
A9: 道補助金 | G9: =入力!H53 -> 0 | H9: 円 | I9: =IF(別15食料!F13=別15食料!L13,"",別15食料!L13) | J9: 円 | K9: =別15食料!L13 -> 0 | L9: 円 | M9: 0 | N9: 円 | O9: =別15食料!L13 -> 0 | P9: 円 | Q9: 一般会計 北海道 札幌市中央区北3条西6丁目
A10: 自己負担 | G10: =入力!H53-入力!J53 -> 0 | H10: 円 | I10: =IF(I9="","",入力!H77-別15食料!L13) | J10: 円 | K10: =別15食料!G13-別16食料!K9 -> 0 | L10: 円 | M10: =別15食料!G13-別16食料!K9 -> 0 | N10: 円 | O10: 0 | P10: 円
A12: 支出の部
A13: 科 目 | G13: 予 算 額 | K13: 精 算 額 | M13: 内 訳 | Q13: 不 用 額 | R13: 備 考
G14: 当 初 | I14: 更正後の額 | M14: 収入済額 | O14: 収入未済額
A15: 食料品 | G15: =入力!H53 -> 0 | H15: 円 | I15: =IF(別15食料!F13=別15食料!L13,"",別15食料!G13) | J15: 円 | K15: =入力!H77 -> 0 | L15: 円 | M15: =入力!H77 -> 0 | N15: 円 | O15: 0 | P15: 円 | Q15: 0円
A16: 上記のとおり精算したことを証明します。
A17: 令和 8 年 | C17: =入力!B10 -> 0 | D17: 月 | E17: =入力!D10 -> 0 | F17: 日 | M17: 住所 | O17: =入力!B13 -> 0
I18: 補助事業者等
M19: 氏名 | O19: =入力!B16 -> 0
O20: =入力!B19 -> 0 | Q20: =入力!C22 -> 0 | R20: =入力!E22 -> 0
A21: 注 １ この様式には、当該補助事業等に要した経費のみを記載すること。
A22: ２ 「科目」欄の区分は標準を示したものであり、補助金等の交付を受けた者における通常の予算及び決算の区分がこれと異なるときは、
A23: それぞれ補助事業者等の区分に従い記載して差し支えないこと。
A24: ３ 「予算額」欄中「更正後の額」欄には、補助事業者等の議決機関等における最終の更正後の額（予算の流用による更正後の額を含む。） を記載すること。
A25: ４ 「収入未済額」及び「支出未済額」欄には、債権又は債務が確定している額を記載し、かつ、債務者又は債権者の住所氏名を「備考」欄に記載すること。
A26: ５ 補助事業者等が市町村である場合は、「収入の部」には当該補助事業等に係る特定財源のみを記載し、備考欄に予算の区分
A27: （一般会計又は特別会計）を記載すること
A28: ６ 「不用額」欄には、「更正後の額」（更正していない場合には、「当初」）欄に記載した額から「精算額」欄に記載した額を控除した額を記載すること。
A29: ７ 市町村以外の者がこの様式を使用する場合は、この様式中「○○市（町村）長（氏名）」を訂正して使用すること。

Sheet 様式2
A1: （様式２）
A3: 介護事業所等及び介護施設等に対するサービス継続支援事業に関する事業実績報告書（事業所単位）
A5: 施設概要
A7: 介護保険事業所番号 | H7: =入力!B25 -> 0 | O7: 法人名称 | T7: =入力!B16 -> 0
A8: 事業所名称 | H8: =入力!B28 -> 0
A9: 事業所 所在地 | D9: 都道府県名 | H9: 住所 | T9: 連絡先 | W9: 電話番号 | AG9: 担当部署名
D10: 北海道 | H10: =入力!B31 -> 0 | W10: =入力!F46 -> 0 | AG10: =入力!M46 -> 0
A11: 提供サービス（プルダウンから選択） | L11: =入力!B34 -> 居宅介護支援
A13: 報告にあたっての確認事項
A15: 領収書、レシート等の根拠資料は事業所において適切に保管している。 | X15: ✔
A16: 支出した費用について、重点支援交付金と重複は生じていない。 | X16: ✔
A18: 支出済額
A20: １．介護事業所等に対するサービス継続支援事業 | Y20: 交付決定額 | AD20: 実績額 | AI20: 差引額
Y21: =ROUNDDOWN((入力!J52)/1000,0) -> 0 | AB21: 千円 | AD21: =ROUNDDOWN((H34)/1000,0) -> 0 | AG21: 千円 | AI21: =IF(Y21<AD21,0,Y21-AD21) -> 0 | AL21: 千円
A22: 【介護サービスを円滑に継続するため、災害備蓄等への対応】
A23: 科目 | H23: 支出済額（円） 税込 | M23: 用途・品目・数量等
A24: 燃料費、交通費、光熱水費、設備、備品等 | H24: =入力!H60 -> 0 | M24: =入力!C60 -> 0 | W24: =入力!F60 -> 0 | Y24: =入力!G60 -> 0
H25: =入力!H61 -> 0 | M25: =入力!C61 -> 0 | W25: =入力!F61 -> 0 | Y25: =入力!G61 -> 0
H26: =入力!H62 -> 0 | M26: =入力!C62 -> 0 | W26: =入力!F62 -> 0 | Y26: =入力!G62 -> 0
H27: =入力!H63 -> 0 | M27: =入力!C63 -> 0 | W27: =入力!F63 -> 0 | Y27: =入力!G63 -> 0
H28: =入力!H64 -> 0 | M28: =入力!C64 -> 0 | W28: =入力!F64 -> 0 | Y28: =入力!G64 -> 0
H29: =入力!H65 -> 0 | M29: =入力!C65 -> 0 | W29: =入力!F65 -> 0 | Y29: =入力!G65 -> 0
H30: =入力!H66 -> 0 | M30: =入力!C66 -> 0 | W30: =入力!F66 -> 0 | Y30: =入力!G66 -> 0
H31: =入力!H67 -> 0 | M31: =入力!C67 -> 0 | W31: =入力!F67 -> 0 | Y31: =入力!G67 -> 0
H32: =入力!H68 -> 0 | M32: =入力!C68 -> 0 | W32: =入力!F68 -> 0 | Y32: =入力!G68 -> 0
H33: =入力!H69 -> 0 | M33: =入力!C69 -> 0 | W33: =入力!F69 -> 0 | Y33: =入力!G69 -> 0
A34: 合計 | H34: =SUM(H24:L33) -> 0
A36: ２．介護施設等に対するサービス継続支援事業 | Y36: 交付決定額 | AD36: 実績額 | AI36: 差引額
Y37: =ROUNDDOWN((入力!J53)/1000,0) -> 0 | AB37: 千円 | AD37: =ROUNDDOWN((H42)/1000,0) -> 0 | AG37: 千円 | AI37: =IF(Y37<AD37,0,Y37-AD37) -> 0 | AL37: 千円
A39: 科目 | H39: 支出済額（円） 税込 | M39: 用途・品目・数量等
A40: 食料品、委託費 | H40: =入力!H75 -> 0 | M40: =入力!C75 -> 0 | W40: =入力!F75 -> 0 | Y40: =入力!G75 -> 0
H41: =入力!H76 -> 0 | M41: =入力!C76 -> 0 | W41: =入力!F76 -> 0 | Y41: =入力!G76 -> 0
A42: 合計 | H42: =SUM(H40:L41) -> 0
A44: （注）差引額は、交付決定額と清算額を比較して交付決定額が大きい場合に表示される。

Sheet リスト
A2: 通所介護事業所（1月あたり延べ利用者数 300人以下) | B2: 200000
A3: 通所介護事業所（1月あたり延べ利用者数 301人以上～600人以下) | B3: 300000
A4: 通所介護事業所（1月あたり延べ利用者数 601人以上) | B4: 400000
A5: 通所リハビリテーション | B5: 200000
A6: 看護小規模多機能型居宅介護 （複合型サービス） | B6: 200000
A7: 地域密着型通所介護 | B7: 200000
A8: 認知症対応型通所介護 | B8: 200000
A9: 小規模多機能型居宅介護 | B9: 200000
A10: 認知症対応型共同生活介護 | B10: 200000
A11: 地域密着型特定施設入居者生活介護 （養護・軽費を除く） | B11: 200000
A12: 特定施設入居者生活介護 （養護・軽費を除く） | B12: 200000
A13: 訪問介護事業所（集合住宅併設型） | B13: 200000
... A23: 訪問リハビリテーション | B23: 200000
A24: 介護老人福祉施設 | B24: 6000 | C24: 18000
A25: 介護老人保健施設 | B25: 6000 | C25: 18000
A26: 介護医療院 | B26: 6000 | C26: 18000
A27: 短期入所生活介護 | B27: 6000 | C27: 18000
A28: 地域密着型介護老人福祉施設 入所者生活介護 | B28: 6000 | C28: 18000
A29: 養護老人ホーム | B29: 6000 | C29: 18000
A30: 軽費老人ホーム | B30: 6000 | C30: 18000
A32: 本補助金を光熱水費の支払いに充当する
A33: 本補助金を災害備蓄品の購入に充当する
A34: 本補助金を移動時の備品購入経費に充当する（タイヤ等）
A35: 本補助金を猛暑対策や雪害対策等職場環境改善の為の備品購入経費に充当する
A36: 本補助金を移動時の経費代に充当する（高速道路、駐車場、定期券等）
A37: 本補助金を移動時の燃料代と災害備蓄品の購入に充当する
A38: 本補助金を施設内の光熱水費と災害備蓄品の購入に充当する
A39: 本補助金を移動時の燃料代と職場環境改善の為の備品購入経費に充当する
A40: 本補助金を災害備蓄品の購入と職場環境改善の為の備品購入経費に充当する
A41: 本補助金を移動時の燃料代と光熱水費に充当する
A42: 本補助金を移動時の燃料代と光熱費、職場環境改善の為の備品購入経費に充当する
A43: 本補助金を施設内の光熱費と職場環境改善の為の備品購入経費に充当する
... A77: 令和
